Workbook
Name StipendEx: #REF!
Name OtherEx: #REF!
Name Z_2AFBB094_F619_44CF_9E3A_3B5F2A197C08_.wvu.PrintArea: 'Financial Reporting RP1'!$A$1:$V$171
Name SubsEx: #REF!
Name Z_2AFBB094_F619_44CF_9E3A_3B5F2A197C08_.wvu.PrintArea: 'Grant Budget'!$A$1:$V$172
Name TravelEx: #REF!
Name increases: #REF!
Name Z_2AFBB094_F619_44CF_9E3A_3B5F2A197C08_.wvu.PrintArea: 'Successful Award Budget'!$A$1:$V$170

Sheet Introduction
B1: Introduction | C1: The Grant Budget Template is intended for use in Stage 2 of an experiment. The aim of this resource is to help you translate your trial design into a concrete funding proposal. By completing the budget tab during the application phase, you can ensure that your funding request is realistic, comprehensive, and clearly aligned with your research activities. This template allows you to present a structured breakdown of anticipated costs to potential funders, demonstrating that your project is feasible and that you have accounted for the personnel, travel, and direct expenses necessary for a successful trial. Please note that the specific requirements for different grants vary, so ensure that you consult with your institution and the relevant funding body, using their budget template in the first instance. If a funder does not provide a specific format, this template will allow you to present your budget in a clear and thorough manner.
B2: How to use this template | C2: To use this template, download/open and save a copy for your personal use. Complete the relevant tabs by entering information only into the cells highlighted in blue. Ensure you provide detailed descriptions for each expense category and specify the time commitments (FTE) for all personnel involved. The expense categories include: - Personnel - Travel - Other Direct Expenses - Consultant/Subcontractor Expenses Expand for more space: You can unhide columns to add extra periods beyond the initial view, and unhide rows within each expense category to add more line items for costs. Defining Periods: To set your project timeline, enter the specific dates for each period in row 19.
B3: Key terms | C3: Fringe Rate: The percentage covering employer-paid benefits, such as taxes and insurance, added to an employee's annual salary. Period FTE (Full-Time Equivalent): The proportion of time an individual will spend on the project (e.g., 1.0 for full-time, 0.5 for 50% of their time). Other Direct Expenses: Project-specific costs that are not personnel or travel related, such as survey costs, material costs, or software subscriptions. Consultant/Subcontractor Expenses: Payments made for the specialized services of experts who are not employees of the institution awarded the funding. Periods: These columns represent specific time intervals (e.g., 1 year blocks) over the duration of your project.
B4: Version | C4: 1.1 (23/02/2026)

Sheet Grant Budget
A1: INSERT NAME OF FUND (Eg IGL Seed Grants: Lowering Barriers to High-Impact Experimental Research) | Y1: USD | Z1: $
A2: This template is intended as guidance only - please consult with your university and project team to ensure funder requirements are met | Y2: EUR | Z2: €
A3: Submission Date: | Y3: GBP | Z3: £
A5: Organisation Name
A6: Lead Personnel
A7: Proposal Title
A8: Requested Amount | B8: =T172 -> 0
A9: Currency | B9: USD
A11: Anticipated Start Date
A12: Anticipated End Date
A13: Project Duration (months) | E13: Complete only cells in blue
A19: EXPENSE TYPE | B19: Expense Description | C19: Calculation Detail | M19: Period 1 mm/dd/yy - mm/dd/yy | N19: Period 2 mm/dd/yy - mm/dd/yy | O19: Period 3 mm/dd/yy - mm/dd/yy | P19: Period 4 mm/dd/yy - mm/dd/yy | Q19: Period 5 mm/dd/yy - mm/dd/yy | R19: Period 6 mm/dd/yy - mm/dd/yy | S19: Period 7 mm/dd/yy - mm/dd/yy | T19: Total
A20: PERSONNEL (Name of individual/TBC) | B20: Job Title | C20: Fringe % | D20: Annual Salary | E20: Period 1 FTE | F20: Period 2 FTE | G20: Period 3 FTE | H20: Period 4 FTE% | I20: Period 5 FTE% | J20: Period 6 FTE% | K20: Period 7 FTE%
M21: =$D$21*E21*(1+$C$21) -> 0 | N21: =D21*F21*(1+C21)*(1+$C$16) -> 0 | O21: =D21*G21*(1+C21)*(1+$C$16)*(1+$C$16) -> 0 | P21: =D21*H21*(1+C21)*(1+$C$16)*(1+$C$16)*(1+$C$16) -> 0 | Q21: =D21*I21*(1+C21)*(1+$C$16)*(1+$C$16)*(1+$C$16)*(1+$C$16) -> 0 | R21: =D21*J21*(1+C21)*(1+$C$16)*(1+$C$16)*(1+$C$16)*(1+$C$16)*(1+$C$16) -> 0 | S21: =D21*K21*(1+C21)*(1+$C$16)*(1+$C$16)*(1+$C$16)*(1+$C$16)*(1+$C$16)*(1+$C$16) -> 0 | T21: =M21+N21+O21+P21+Q21+R21+S21 -> 0
M22: =$D$22*E22*(1+$C$22) -> 0 | N22: =D22*F22*(1+C22)*(1+$C$16) -> 0 | O22: =D22*G22*(1+C22)*(1+$C$16)*(1+$C$16) -> 0 | P22: =D22*H22*(1+C22)*(1+$C$16)*(1+$C$16)*(1+$C$16) -> 0 | Q22: =D22*I22*(1+C22)*(1+$C$16)*(1+$C$16)*(1+$C$16)*(1+$C$16) -> 0 | R22: =D22*J22*(1+C22)*(1+$C$16)*(1+$C$16)*(1+$C$16)*(1+$C$16)*(1+$C$16) -> 0 | S22: =D22*K22*(1+C22)*(1+$C$16)*(1+$C$16)*(1+$C$16)*(1+$C$16)*(1+$C$16)*(1+$C$16) -> 0 | T22: =M22+N22+O22+P22+Q22+R22+S22 -> 0
M23: =$D$23*E23*(1+$C$23) -> 0 | N23: =D23*F23*(1+C23)*(1+$C$16) -> 0 | O23: =D23*G23*(1+C23)*(1+$C$16)*(1+$C$16) -> 0 | P23: =D23*H23*(1+C23)*(1+$C$16)*(1+$C$16)*(1+$C$16) -> 0 | Q23: =D23*I23*(1+C23)*(1+$C$16)*(1+$C$16)*(1+$C$16)*(1+$C$16) -> 0 | R23: =D23*J23*(1+C23)*(1+$C$16)*(1+$C$16)*(1+$C$16)*(1+$C$16)*(1+$C$16) -> 0 | S23: =D23*K23*(1+C23)*(1+$C$16)*(1+$C$16)*(1+$C$16)*(1+$C$16)*(1+$C$16)*(1+$C$16) -> 0 | T23: =M23+N23+O23+P23+Q23+R23+S23 -> 0
M24: =D24*E24*(1+C24) -> 0 | N24: =D24*F24*(1+C24)*(1+$C$16) -> 0 | O24: =D24*G24*(1+C24)*(1+$C$16)*(1+$C$16) -> 0 | P24: =D24*H24*(1+C24)*(1+$C$16)*(1+$C$16)*(1+$C$16) -> 0 | Q24: =D24*I24*(1+C24)*(1+$C$16)*(1+$C$16)*(1+$C$16)*(1+$C$16) -> 0 | R24: =D24*J24*(1+C24)*(1+$C$16)*(1+$C$16)*(1+$C$16)*(1+$C$16)*(1+$C$16) -> 0 | S24: =D24*K24*(1+C24)*(1+$C$16)*(1+$C$16)*(1+$C$16)*(1+$C$16)*(1+$C$16)*(1+$C$16) -> 0 | T24: =M24+N24+O24+P24+Q24+R24+S24 -> 0
M25: =D25*E25*(1+C25) -> 0 | N25: =D25*F25*(1+C25)*(1+$C$16) -> 0 | O25: =D25*G25*(1+C25)*(1+$C$16)*(1+$C$16) -> 0 | P25: =D25*H25*(1+C25)*(1+$C$16)*(1+$C$16)*(1+$C$16) -> 0 | Q25: =D25*I25*(1+C25)*(1+$C$16)*(1+$C$16)*(1+$C$16)*(1+$C$16) -> 0 | R25: =D25*J25*(1+C25)*(1+$C$16)*(1+$C$16)*(1+$C$16)*(1+$C$16)*(1+$C$16) -> 0 | S25: =D25*K25*(1+C25)*(1+$C$16)*(1+$C$16)*(1+$C$16)*(1+$C$16)*(1+$C$16)*(1+$C$16) -> 0 | T25: =M25+N25+O25+P25+Q25+R25+S25 -> 0
M26: =D26*E26*(1+C26) -> 0 | N26: =D26*F26*(1+C26)*(1+$C$16) -> 0 | O26: =D26*G26*(1+C26)*(1+$C$16)*(1+$C$16) -> 0 | P26: =D26*H26*(1+C26)*(1+$C$16)*(1+$C$16)*(1+$C$16) -> 0 | Q26: =D26*I26*(1+C26)*(1+$C$16)*(1+$C$16)*(1+$C$16)*(1+$C$16) -> 0 | R26: =D26*J26*(1+C26)*(1+$C$16)*(1+$C$16)*(1+$C$16)*(1+$C$16)*(1+$C$16) -> 0 | S26: =D26*K26*(1+C26)*(1+$C$16)*(1+$C$16)*(1+$C$16)*(1+$C$16)*(1+$C$16)*(1+$C$16) -> 0 | T26: =M26+N26+O26+P26+Q26+R26+S26 -> 0
M27: =D27*E27*(1+C27) -> 0 | N27: =D27*F27*(1+C27)*(1+$C$16) -> 0 | O27: =D27*G27*(1+C27)*(1+$C$16)*(1+$C$16) -> 0 | P27: =D27*H27*(1+C27)*(1+$C$16)*(1+$C$16)*(1+$C$16) -> 0 | Q27: =D27*I27*(1+C27)*(1+$C$16)*(1+$C$16)*(1+$C$16)*(1+$C$16) -> 0 | R27: =D27*J27*(1+C27)*(1+$C$16)*(1+$C$16)*(1+$C$16)*(1+$C$16)*(1+$C$16) -> 0 | S27: =D27*K27*(1+C27)*(1+$C$16)*(1+$C$16)*(1+$C$16)*(1+$C$16)*(1+$C$16)*(1+$C$16) -> 0 | T27: =M27+N27+O27+P27+Q27+R27+S27 -> 0
M28: =D28*E28*(1+C28) -> 0 | N28: =D28*F28*(1+C28)*(1+$C$16) -> 0 | O28: =D28*G28*(1+C28)*(1+$C$16)*(1+$C$16) -> 0 | P28: =D28*H28*(1+C28)*(1+$C$16)*(1+$C$16)*(1+$C$16) -> 0 | Q28: =D28*I28*(1+C28)*(1+$C$16)*(1+$C$16)*(1+$C$16)*(1+$C$16) -> 0 | R28: =D28*J28*(1+C28)*(1+$C$16)*(1+$C$16)*(1+$C$16)*(1+$C$16)*(1+$C$16) -> 0 | S28: =D28*K28*(1+C28)*(1+$C$16)*(1+$C$16)*(1+$C$16)*(1+$C$16)*(1+$C$16)*(1+$C$16) -> 0 | T28: =M28+N28+O28+P28+Q28+R28+S28 -> 0
M29: =D29*E29*(1+C29) -> 0 | N29: =D29*F29*(1+C29)*(1+$C$16) -> 0 | O29: =D29*G29*(1+C29)*(1+$C$16)*(1+$C$16) -> 0 | P29: =D29*H29*(1+C29)*(1+$C$16)*(1+$C$16)*(1+$C$16) -> 0 | Q29: =D29*I29*(1+C29)*(1+$C$16)*(1+$C$16)*(1+$C$16)*(1+$C$16) -> 0 | R29: =D29*J29*(1+C29)*(1+$C$16)*(1+$C$16)*(1+$C$16)*(1+$C$16)*(1+$C$16) -> 0 | S29: =D29*K29*(1+C29)*(1+$C$16)*(1+$C$16)*(1+$C$16)*(1+$C$16)*(1+$C$16)*(1+$C$16) -> 0 | T29: =M29+N29+O29+P29+Q29+R29+S29 -> 0
M30: =D30*E30*(1+C30) -> 0 | N30: =D30*F30*(1+C30)*(1+$C$16) -> 0 | O30: =D30*G30*(1+C30)*(1+$C$16)*(1+$C$16) -> 0 | P30: =D30*H30*(1+C30)*(1+$C$16)*(1+$C$16)*(1+$C$16) -> 0 | Q30: =D30*I30*(1+C30)*(1+$C$16)*(1+$C$16)*(1+$C$16)*(1+$C$16) -> 0 | R30: =D30*J30*(1+C30)*(1+$C$16)*(1+$C$16)*(1+$C$16)*(1+$C$16)*(1+$C$16) -> 0 | S30: =D30*K30*(1+C30)*(1+$C$16)*(1+$C$16)*(1+$C$16)*(1+$C$16)*(1+$C$16)*(1+$C$16) -> 0 | T30: =M30+N30+O30+P30+Q30+R30+S30 -> 0
M31: =D31*E31*(1+C31) -> 0 | N31: =D31*F31*(1+C31)*(1+$C$16) -> 0 | O31: =D31*G31*(1+C31)*(1+$C$16)*(1+$C$16) -> 0 | P31: =D31*H31*(1+C31)*(1+$C$16)*(1+$C$16)*(1+$C$16) -> 0 | Q31: =D31*I31*(1+C31)*(1+$C$16)*(1+$C$16)*(1+$C$16)*(1+$C$16) -> 0 | R31: =D31*J31*(1+C31)*(1+$C$16)*(1+$C$16)*(1+$C$16)*(1+$C$16)*(1+$C$16) -> 0 | S31: =D31*K31*(1+C31)*(1+$C$16)*(1+$C$16)*(1+$C$16)*(1+$C$16)*(1+$C$16)*(1+$C$16) -> 0 | T31: =M31+N31+O31+P31+Q31+R31+S31 -> 0
M32: =D32*E32*(1+C32) -> 0 | N32: =D32*F32*(1+C32)*(1+$C$16) -> 0 | O32: =D32*G32*(1+C32)*(1+$C$16)*(1+$C$16) -> 0 | P32: =D32*H32*(1+C32)*(1+$C$16)*(1+$C$16)*(1+$C$16) -> 0 | Q32: =D32*I32*(1+C32)*(1+$C$16)*(1+$C$16)*(1+$C$16)*(1+$C$16) -> 0 | R32: =D32*J32*(1+C32)*(1+$C$16)*(1+$C$16)*(1+$C$16)*(1+$C$16)*(1+$C$16) -> 0 | S32: =D32*K32*(1+C32)*(1+$C$16)*(1+$C$16)*(1+$C$16)*(1+$C$16)*(1+$C$16)*(1+$C$16) -> 0 | T32: =M32+N32+O32+P32+Q32+R32+S32 -> 0
M33: =D33*E33*(1+C33) -> 0 | N33: =D33*F33*(1+C33)*(1+$C$16) -> 0 | O33: =D33*G33*(1+C33)*(1+$C$16)*(1+$C$16) -> 0 | P33: =D33*H33*(1+C33)*(1+$C$16)*(1+$C$16)*(1+$C$16) -> 0 | Q33: =D33*I33*(1+C33)*(1+$C$16)*(1+$C$16)*(1+$C$16)*(1+$C$16) -> 0 | R33: =D33*J33*(1+C33)*(1+$C$16)*(1+$C$16)*(1+$C$16)*(1+$C$16)*(1+$C$16) -> 0 | S33: =D33*K33*(1+C33)*(1+$C$16)*(1+$C$16)*(1+$C$16)*(1+$C$16)*(1+$C$16)*(1+$C$16) -> 0 | T33: =M33+N33+O33+P33+Q33+R33+S33 -> 0
M34: =D34*E34*(1+C34) -> 0 | N34: =D34*F34*(1+C34)*(1+$C$16) -> 0 | O34: =D34*G34*(1+C34)*(1+$C$16)*(1+$C$16) -> 0 | P34: =D34*H34*(1+C34)*(1+$C$16)*(1+$C$16)*(1+$C$16) -> 0 | Q34: =D34*I34*(1+C34)*(1+$C$16)*(1+$C$16)*(1+$C$16)*(1+$C$16) -> 0 | R34: =D34*J34*(1+C34)*(1+$C$16)*(1+$C$16)*(1+$C$16)*(1+$C$16)*(1+$C$16) -> 0 | S34: =D34*K34*(1+C34)*(1+$C$16)*(1+$C$16)*(1+$C$16)*(1+$C$16)*(1+$C$16)*(1+$C$16) -> 0 | T34: =M34+N34+O34+P34+Q34+R34+S34 -> 0
M35: =D35*E35*(1+C35) -> 0 | N35: =D35*F35*(1+C35)*(1+$C$16) -> 0 | O35: =D35*G35*(1+C35)*(1+$C$16)*(1+$C$16) -> 0 | P35: =D35*H35*(1+C35)*(1+$C$16)*(1+$C$16)*(1+$C$16) -> 0 | Q35: =D35*I35*(1+C35)*(1+$C$16)*(1+$C$16)*(1+$C$16)*(1+$C$16) -> 0 | R35: =D35*J35*(1+C35)*(1+$C$16)*(1+$C$16)*(1+$C$16)*(1+$C$16)*(1+$C$16) -> 0 | S35: =D35*K35*(1+C35)*(1+$C$16)*(1+$C$16)*(1+$C$16)*(1+$C$16)*(1+$C$16)*(1+$C$16) -> 0 | T35: =M35+N35+O35+P35+Q35+R35+S35 -> 0
... M49: =D49*E49*(1+C49) -> 0 | N49: =D49*F49*(1+C49)*(1+$C$16) -> 0 | O49: =D49*G49*(1+C49)*(1+$C$16)*(1+$C$16) -> 0 | P49: =D49*H49*(1+C49)*(1+$C$16)*(1+$C$16)*(1+$C$16) -> 0 | Q49: =D49*I49*(1+C49)*(1+$C$16)*(1+$C$16)*(1+$C$16)*(1+$C$16) -> 0 | R49: =D49*J49*(1+C49)*(1+$C$16)*(1+$C$16)*(1+$C$16)*(1+$C$16)*(1+$C$16) -> 0 | S49: =D49*K49*(1+C49)*(1+$C$16)*(1+$C$16)*(1+$C$16)*(1+$C$16)*(1+$C$16)*(1+$C$16) -> 0 | T49: =M49+N49+O49+P49+Q49+R49+S49 -> 0
A50: <---- unhide additional rows if needed
A51: Personnel Subtotal | M51: =SUM(M21:M49) -> 0 | N51: =SUM(N21:N49) -> 0 | O51: =SUM(O21:O49) -> 0 | P51: =SUM(P21:P49) -> 0 | Q51: =SUM(Q21:Q49) -> 0 | R51: =SUM(R21:R49) -> 0 | S51: =SUM(S21:S49) -> 0 | T51: =SUM(T21:T49) -> 0
A53: TRAVEL | B53: Purpose of Trip | C53: Cost per Item | D53: # Items | E53: Additional Detail
T54: =M54+N54+O54+P54+Q54+R54+S54 -> 0
T55: =M55+N55+O55+P55+Q55+R55+S55 -> 0
T56: =M56+N56+O56+P56+Q56+R56+S56 -> 0
T57: =M57+N57+O57+P57+Q57+R57+S57 -> 0
T58: =M58+N58+O58+P58+Q58+R58+S58 -> 0
T59: =M59+N59+O59+P59+Q59+R59+S59 -> 0
T60: =M60+N60+O60+P60+Q60+R60+S60 -> 0
T61: =M61+N61+O61+P61+Q61+R61+S61 -> 0
...

Sheet Financial Reporting RP1
A1: IGL Seed Grants: Lowering Barriers to High-Impact Experimental Research
A2: To complete only if a successful award is made
A4: Reporting Period
A6: Organisation Name | B6: ='Successful Award Budget'!B5
A7: Lead Personnel | B7: ='Successful Award Budget'!B6
A8: Proposal Title | B8: ='Successful Award Budget'!B7
A9: Award Amount (GBP) | B9: ='Successful Award Budget'!B8 -> 0
A11: Project Start Date | B11: ='Successful Award Budget'!B10
A12: Project End Date | B12: ='Successful Award Budget'!B11
A13: Project Duration (months) | B13: ='Successful Award Budget'!B12
A15: Actuals reported | B15: =T171 -> 0
A16: Remaining Balance | B16: =B9-B15 -> 0 | C16: Complete only cells in blue
A18: EXPENSE TYPE | B18: Expense Description | E18: Actuals | U18: Variation
A19: PERSONNEL | B19: Job Title | C19: Fringe % | D19: Salary | E19: Period 1 FTE | F19: Period 2 FTE | G19: Period 3 FTE | H19: Period 4 FTE% | I19: Period 5 FTE% | J19: Period 6 FTE% | K19: Period 7 FTE% | M19: Period 1 mm/dd/yy - mm/dd/yy | N19: Period 2 mm/dd/yy - mm/dd/yy | O19: Period 3 mm/dd/yy - mm/dd/yy | P19: Period 4 mm/dd/yy - mm/dd/yy | Q19: Period 5 mm/dd/yy - mm/dd/yy | R19: Period 6 mm/dd/yy - mm/dd/yy | S19: Period 7 mm/dd/yy - mm/dd/yy | U19: =M19 -> Period 1 mm/dd/yy - mm/dd/yy | V19: =N19 -> Period 2 mm/dd/yy - mm/dd/yy | W19: =O19 -> Period 3 mm/dd/yy - mm/dd/yy | X19: =P19 -> Period 4 mm/dd/yy - mm/dd/yy | Y19: =Q19 -> Period 5 mm/dd/yy - mm/dd/yy | Z19: =R19 -> Period 6 mm/dd/yy - mm/dd/yy | AA19: =S19 -> Period 7 mm/dd/yy - mm/dd/yy
A20: ='Successful Award Budget'!A19 | B20: ='Successful Award Budget'!B19 | C20: ='Successful Award Budget'!C19 | M20: =$D$20*E20*(1+$C$20) -> 0 | N20: =$D$20*F20*(1+$C$20) -> 0 | O20: =$D$20*G20*(1+$C$20) -> 0 | P20: =$D$20*H20*(1+$C$20) -> 0 | Q20: =$D$20*I20*(1+$C$20) -> 0 | R20: =$D$20*J20*(1+$C$20) -> 0 | S20: =$D$20*K20*(1+$C$20) -> 0 | T20: =M20+N20+O20+P20+Q20+R20+S20 -> 0 | U20: ='Successful Award Budget'!M19-M20 -> 0 | V20: ='Successful Award Budget'!N19-N20 -> 0 | W20: ='Successful Award Budget'!O19-O20 -> 0 | X20: ='Successful Award Budget'!P19-P20 -> 0 | Y20: ='Successful Award Budget'!Q19-Q20 -> 0 | Z20: ='Successful Award Budget'!R19-R20 -> 0 | AA20: ='Successful Award Budget'!S19-S20 -> 0 | AB20: =U20+V20+W20+X20+Y20+Z20+AA20 -> 0
A21: ='Successful Award Budget'!A20 | B21: ='Successful Award Budget'!B20 | C21: ='Successful Award Budget'!C20 | D21: ='Successful Award Budget'!D20 | M21: =$D$21*E21*(1+$C$21) -> 0 | N21: =$D$20*F21*(1+$C$20) -> 0 | O21: =$D$20*G21*(1+$C$20) -> 0 | P21: =$D$20*H21*(1+$C$20) -> 0 | Q21: =$D$20*I21*(1+$C$20) -> 0 | R21: =$D$20*J21*(1+$C$20) -> 0 | S21: =$D$20*K21*(1+$C$20) -> 0 | T21: =M21+N21+O21+P21+Q21+R21+S21 -> 0 | U21: ='Successful Award Budget'!M20-M21 -> 0 | V21: ='Successful Award Budget'!N20-N21 -> 0 | W21: ='Successful Award Budget'!O20-O21 -> 0 | X21: ='Successful Award Budget'!P20-P21 -> 0 | Y21: ='Successful Award Budget'!Q20-Q21 -> 0 | Z21: ='Successful Award Budget'!R20-R21 -> 0 | AA21: ='Successful Award Budget'!S20-S21 -> 0 | AB21: =U21+V21+W21+X21+Y21+Z21+AA21 -> 0
A22: ='Successful Award Budget'!A21 | B22: ='Successful Award Budget'!B21 | C22: ='Successful Award Budget'!C21 | D22: ='Successful Award Budget'!D21 | M22: =$D$22*E22*(1+$C$22) -> 0 | N22: =$D$20*F22*(1+$C$20) -> 0 | O22: =$D$20*G22*(1+$C$20) -> 0 | P22: =$D$20*H22*(1+$C$20) -> 0 | Q22: =$D$20*I22*(1+$C$20) -> 0 | R22: =$D$20*J22*(1+$C$20) -> 0 | S22: =$D$20*K22*(1+$C$20) -> 0 | T22: =M22+N22+O22+P22+Q22+R22+S22 -> 0 | U22: ='Successful Award Budget'!M21-M22 -> 0 | V22: ='Successful Award Budget'!N21-N22 -> 0 | W22: ='Successful Award Budget'!O21-O22 -> 0 | X22: ='Successful Award Budget'!P21-P22 -> 0 | Y22: ='Successful Award Budget'!Q21-Q22 -> 0 | Z22: ='Successful Award Budget'!R21-R22 -> 0 | AA22: ='Successful Award Budget'!S21-S22 -> 0 | AB22: =U22+V22+W22+X22+Y22+Z22+AA22 -> 0
A23: ='Successful Award Budget'!A22 | B23: ='Successful Award Budget'!B22 | C23: ='Successful Award Budget'!C22 | D23: ='Successful Award Budget'!D22 | M23: =D23*E23*(1+C23) -> 0 | N23: =$D$20*F23*(1+$C$20) -> 0 | O23: =$D$20*G23*(1+$C$20) -> 0 | P23: =$D$20*H23*(1+$C$20) -> 0 | Q23: =$D$20*I23*(1+$C$20) -> 0 | R23: =$D$20*J23*(1+$C$20) -> 0 | S23: =$D$20*K23*(1+$C$20) -> 0 | T23: =M23+N23+O23+P23+Q23+R23+S23 -> 0 | U23: ='Successful Award Budget'!M22-M23 -> 0 | V23: ='Successful Award Budget'!N22-N23 -> 0 | W23: ='Successful Award Budget'!O22-O23 -> 0 | X23: ='Successful Award Budget'!P22-P23 -> 0 | Y23: ='Successful Award Budget'!Q22-Q23 -> 0 | Z23: ='Successful Award Budget'!R22-R23 -> 0 | AA23: ='Successful Award Budget'!S22-S23 -> 0 | AB23: =U23+V23+W23+X23+Y23+Z23+AA23 -> 0
A24: ='Successful Award Budget'!A23 | B24: ='Successful Award Budget'!B23 | C24: ='Successful Award Budget'!C23 | D24: ='Successful Award Budget'!D23 | M24: =D24*E24*(1+C24) -> 0 | N24: =$D$20*F24*(1+$C$20) -> 0 | O24: =$D$20*G24*(1+$C$20) -> 0 | P24: =$D$20*H24*(1+$C$20) -> 0 | Q24: =$D$20*I24*(1+$C$20) -> 0 | R24: =$D$20*J24*(1+$C$20) -> 0 | S24: =$D$20*K24*(1+$C$20) -> 0 | T24: =M24+N24+O24+P24+Q24+R24+S24 -> 0 | U24: ='Successful Award Budget'!M23-M24 -> 0 | V24: ='Successful Award Budget'!N23-N24 -> 0 | W24: ='Successful Award Budget'!O23-O24 -> 0 | X24: ='Successful Award Budget'!P23-P24 -> 0 | Y24: ='Successful Award Budget'!Q23-Q24 -> 0 | Z24: ='Successful Award Budget'!R23-R24 -> 0 | AA24: ='Successful Award Budget'!S23-S24 -> 0 | AB24: =U24+V24+W24+X24+Y24+Z24+AA24 -> 0
A25: ='Successful Award Budget'!A24 | B25: ='Successful Award Budget'!B24 | C25: ='Successful Award Budget'!C24 | D25: ='Successful Award Budget'!D24 | M25: =D25*E25*(1+C25) -> 0 | N25: =$D$20*F25*(1+$C$20) -> 0 | O25: =$D$20*G25*(1+$C$20) -> 0 | P25: =$D$20*H25*(1+$C$20) -> 0 | Q25: =$D$20*I25*(1+$C$20) -> 0 | R25: =$D$20*J25*(1+$C$20) -> 0 | S25: =$D$20*K25*(1+$C$20) -> 0 | T25: =M25+N25+O25+P25+Q25+R25+S25 -> 0 | U25: ='Successful Award Budget'!M24-M25 -> 0 | V25: ='Successful Award Budget'!N24-N25 -> 0 | W25: ='Successful Award Budget'!O24-O25 -> 0 | X25: ='Successful Award Budget'!P24-P25 -> 0 | Y25: ='Successful Award Budget'!Q24-Q25 -> 0 | Z25: ='Successful Award Budget'!R24-R25 -> 0 | AA25: ='Successful Award Budget'!S24-S25 -> 0 | AB25: =U25+V25+W25+X25+Y25+Z25+AA25 -> 0
A26: ='Successful Award Budget'!A25 | B26: ='Successful Award Budget'!B25 | C26: ='Successful Award Budget'!C25 | D26: ='Successful Award Budget'!D25 | M26: =D26*E26*(1+C26) -> 0 | N26: =$D$20*F26*(1+$C$20) -> 0 | O26: =$D$20*G26*(1+$C$20) -> 0 | P26: =$D$20*H26*(1+$C$20) -> 0 | Q26: =$D$20*I26*(1+$C$20) -> 0 | R26: =$D$20*J26*(1+$C$20) -> 0 | S26: =$D$20*K26*(1+$C$20) -> 0 | T26: =M26+N26+O26+P26+Q26+R26+S26 -> 0 | U26: ='Successful Award Budget'!M25-M26 -> 0 | V26: ='Successful Award Budget'!N25-N26 -> 0 | W26: ='Successful Award Budget'!O25-O26 -> 0 | X26: ='Successful Award Budget'!P25-P26 -> 0 | Y26: ='Successful Award Budget'!Q25-Q26 -> 0 | Z26: ='Successful Award Budget'!R25-R26 -> 0 | AA26: ='Successful Award Budget'!S25-S26 -> 0 | AB26: =U26+V26+W26+X26+Y26+Z26+AA26 -> 0
A27: ='Successful Award Budget'!A26 | B27: ='Successful Award Budget'!B26 | C27: ='Successful Award Budget'!C26 | D27: ='Successful Award Budget'!D26 | M27: =D27*E27*(1+C27) -> 0 | N27: =$D$20*F27*(1+$C$20) -> 0 | O27: =$D$20*G27*(1+$C$20) -> 0 | P27: =$D$20*H27*(1+$C$20) -> 0 | Q27: =$D$20*I27*(1+$C$20) -> 0 | R27: =$D$20*J27*(1+$C$20) -> 0 | S27: =$D$20*K27*(1+$C$20) -> 0 | T27: =M27+N27+O27+P27+Q27+R27+S27 -> 0 | U27: ='Successful Award Budget'!M26-M27 -> 0 | V27: ='Successful Award Budget'!N26-N27 -> 0 | W27: ='Successful Award Budget'!O26-O27 -> 0 | X27: ='Successful Award Budget'!P26-P27 -> 0 | Y27: ='Successful Award Budget'!Q26-Q27 -> 0 | Z27: ='Successful Award Budget'!R26-R27 -> 0 | AA27: ='Successful Award Budget'!S26-S27 -> 0 | AB27: =U27+V27+W27+X27+Y27+Z27+AA27 -> 0
A28: ='Successful Award Budget'!A27 | B28: ='Successful Award Budget'!B27 | C28: ='Successful Award Budget'!C27 | D28: ='Successful Award Budget'!D27 | M28: =D28*E28*(1+C28) -> 0 | N28: =$D$20*F28*(1+$C$20) -> 0 | O28: =$D$20*G28*(1+$C$20) -> 0 | P28: =$D$20*H28*(1+$C$20) -> 0 | Q28: =$D$20*I28*(1+$C$20) -> 0 | R28: =$D$20*J28*(1+$C$20) -> 0 | S28: =$D$20*K28*(1+$C$20) -> 0 | T28: =M28+N28+O28+P28+Q28+R28+S28 -> 0 | U28: ='Successful Award Budget'!M27-M28 -> 0 | V28: ='Successful Award Budget'!N27-N28 -> 0 | W28: ='Successful Award Budget'!O27-O28 -> 0 | X28: ='Successful Award Budget'!P27-P28 -> 0 | Y28: ='Successful Award Budget'!Q27-Q28 -> 0 | Z28: ='Successful Award Budget'!R27-R28 -> 0 | AA28: ='Successful Award Budget'!S27-S28 -> 0 | AB28: =U28+V28+W28+X28+Y28+Z28+AA28 -> 0
A29: ='Successful Award Budget'!A28 | B29: ='Successful Award Budget'!B28 | C29: ='Successful Award Budget'!C28 | D29: ='Successful Award Budget'!D28 | M29: =D29*E29*(1+C29) -> 0 | N29: =$D$20*F29*(1+$C$20) -> 0 | O29: =$D$20*G29*(1+$C$20) -> 0 | P29: =$D$20*H29*(1+$C$20) -> 0 | Q29: =$D$20*I29*(1+$C$20) -> 0 | R29: =$D$20*J29*(1+$C$20) -> 0 | S29: =$D$20*K29*(1+$C$20) -> 0 | T29: =M29+N29+O29+P29+Q29+R29+S29 -> 0 | U29: ='Successful Award Budget'!M28-M29 -> 0 | V29: ='Successful Award Budget'!N28-N29 -> 0 | W29: ='Successful Award Budget'!O28-O29 -> 0 | X29: ='Successful Award Budget'!P28-P29 -> 0 | Y29: ='Successful Award Budget'!Q28-Q29 -> 0 | Z29: ='Successful Award Budget'!R28-R29 -> 0 | AA29: ='Successful Award Budget'!S28-S29 -> 0 | AB29: =U29+V29+W29+X29+Y29+Z29+AA29 -> 0
A30: ='Successful Award Budget'!A29 | B30: ='Successful Award Budget'!B29 | C30: ='Successful Award Budget'!C29 | D30: ='Successful Award Budget'!D29 | M30: =D30*E30*(1+C30) -> 0 | N30: =$D$20*F30*(1+$C$20) -> 0 | O30: =$D$20*G30*(1+$C$20) -> 0 | P30: =$D$20*H30*(1+$C$20) -> 0 | Q30: =$D$20*I30*(1+$C$20) -> 0 | R30: =$D$20*J30*(1+$C$20) -> 0 | S30: =$D$20*K30*(1+$C$20) -> 0 | T30: =M30+N30+O30+P30+Q30+R30+S30 -> 0 | U30: ='Successful Award Budget'!M29-M30 -> 0 | V30: ='Successful Award Budget'!N29-N30 -> 0 | W30: ='Successful Award Budget'!O29-O30 -> 0 | X30: ='Successful Award Budget'!P29-P30 -> 0 | Y30: ='Successful Award Budget'!Q29-Q30 -> 0 | Z30: ='Successful Award Budget'!R29-R30 -> 0 | AA30: ='Successful Award Budget'!S29-S30 -> 0 | AB30: =U30+V30+W30+X30+Y30+Z30+AA30 -> 0
A31: ='Successful Award Budget'!A30 | B31: ='Successful Award Budget'!B30 | C31: ='Successful Award Budget'!C30 | D31: ='Successful Award Budget'!D30 | M31: =D31*E31*(1+C31) -> 0 | N31: =$D$20*F31*(1+$C$20) -> 0 | O31: =$D$20*G31*(1+$C$20) -> 0 | P31: =$D$20*H31*(1+$C$20) -> 0 | Q31: =$D$20*I31*(1+$C$20) -> 0 | R31: =$D$20*J31*(1+$C$20) -> 0 | S31: =$D$20*K31*(1+$C$20) -> 0 | T31: =M31+N31+O31+P31+Q31+R31+S31 -> 0 | U31: ='Successful Award Budget'!M30-M31 -> 0 | V31: ='Successful Award Budget'!N30-N31 -> 0 | W31: ='Successful Award Budget'!O30-O31 -> 0 | X31: ='Successful Award Budget'!P30-P31 -> 0 | Y31: ='Successful Award Budget'!Q30-Q31 -> 0 | Z31: ='Successful Award Budget'!R30-R31 -> 0 | AA31: ='Successful Award Budget'!S30-S31 -> 0 | AB31: =U31+V31+W31+X31+Y31+Z31+AA31 -> 0
A32: ='Successful Award Budget'!A31 | B32: ='Successful Award Budget'!B31 | C32: ='Successful Award Budget'!C31 | D32: ='Successful Award Budget'!D31 | M32: =D32*E32*(1+C32) -> 0 | N32: =$D$20*F32*(1+$C$20) -> 0 | O32: =$D$20*G32*(1+$C$20) -> 0 | P32: =$D$20*H32*(1+$C$20) -> 0 | Q32: =$D$20*I32*(1+$C$20) -> 0 | R32: =$D$20*J32*(1+$C$20) -> 0 | S32: =$D$20*K32*(1+$C$20) -> 0 | T32: =M32+N32+O32+P32+Q32+R32+S32 -> 0 | U32: ='Successful Award Budget'!M31-M32 -> 0 | V32: ='Successful Award Budget'!N31-N32 -> 0 | W32: ='Successful Award Budget'!O31-O32 -> 0 | X32: ='Successful Award Budget'!P31-P32 -> 0 | Y32: ='Successful Award Budget'!Q31-Q32 -> 0 | Z32: ='Successful Award Budget'!R31-R32 -> 0 | AA32: ='Successful Award Budget'!S31-S32 -> 0 | AB32: =U32+V32+W32+X32+Y32+Z32+AA32 -> 0
A33: ='Successful Award Budget'!A32 | B33: ='Successful Award Budget'!B32 | C33: ='Successful Award Budget'!C32 | D33: ='Successful Award Budget'!D32 | M33: =D33*E33*(1+C33) -> 0 | N33: =$D$20*F33*(1+$C$20) -> 0 | O33: =$D$20*G33*(1+$C$20) -> 0 | P33: =$D$20*H33*(1+$C$20) -> 0 | Q33: =$D$20*I33*(1+$C$20) -> 0 | R33: =$D$20*J33*(1+$C$20) -> 0 | S33: =$D$20*K33*(1+$C$20) -> 0 | T33: =M33+N33+O33+P33+Q33+R33+S33 -> 0 | U33: ='Successful Award Budget'!M32-M33 -> 0 | V33: ='Successful Award Budget'!N32-N33 -> 0 | W33: ='Successful Award Budget'!O32-O33 -> 0 | X33: ='Successful Award Budget'!P32-P33 -> 0 | Y33: ='Successful Award Budget'!Q32-Q33 -> 0 | Z33: ='Successful Award Budget'!R32-R33 -> 0 | AA33: ='Successful Award Budget'!S32-S33 -> 0 | AB33: =U33+V33+W33+X33+Y33+Z33+AA33 -> 0
A34: ='Successful Award Budget'!A33 | B34: ='Successful Award Budget'!B33 | C34: ='Successful Award Budget'!C33 | D34: ='Successful Award Budget'!D33 | M34: =D34*E34*(1+C34) -> 0 | N34: =$D$20*F34*(1+$C$20) -> 0 | O34: =$D$20*G34*(1+$C$20) -> 0 | P34: =$D$20*H34*(1+$C$20) -> 0 | Q34: =$D$20*I34*(1+$C$20) -> 0 | R34: =$D$20*J34*(1+$C$20) -> 0 | S34: =$D$20*K34*(1+$C$20) -> 0 | T34: =M34+N34+O34+P34+Q34+R34+S34 -> 0 | U34: ='Successful Award Budget'!M33-M34 -> 0 | V34: ='Successful Award Budget'!N33-N34 -> 0 | W34: ='Successful Award Budget'!O33-O34 -> 0 | X34: ='Successful Award Budget'!P33-P34 -> 0 | Y34: ='Successful Award Budget'!Q33-Q34 -> 0 | Z34: ='Successful Award Budget'!R33-R34 -> 0 | AA34: ='Successful Award Budget'!S33-S34 -> 0 | AB34: =U34+V34+W34+X34+Y34+Z34+AA34 -> 0
... A48: ='Successful Award Budget'!A47 | B48: ='Successful Award Budget'!B47 | C48: ='Successful Award Budget'!C47 | D48: ='Successful Award Budget'!D47 | M48: =D48*E48*(1+C48) -> 0 | N48: =$D$20*F48*(1+$C$20) -> 0 | O48: =$D$20*G48*(1+$C$20) -> 0 | P48: =$D$20*H48*(1+$C$20) -> 0 | Q48: =$D$20*I48*(1+$C$20) -> 0 | R48: =$D$20*J48*(1+$C$20) -> 0 | S48: =$D$20*K48*(1+$C$20) -> 0 | T48: =M48+N48+O48+P48+Q48+R48+S48 -> 0 | U48: ='Successful Award Budget'!M47-M48 -> 0 | V48: ='Successful Award Budget'!N47-N48 -> 0 | W48: ='Successful Award Budget'!O47-O48 -> 0 | X48: ='Successful Award Budget'!P47-P48 -> 0 | Y48: ='Successful Award Budget'!Q47-Q48 -> 0 | Z48: ='Successful Award Budget'!R47-R48 -> 0 | AA48: ='Successful Award Budget'!S47-S48 -> 0 | AB48: =U48+V48+W48+X48+Y48+Z48+AA48 -> 0
A49: <---- unhide additional rows if needed
A50: Personnel Subtotal | M50: =SUM(M20:M48) -> 0 | N50: =SUM(N20:N48) -> 0 | O50: =SUM(O20:O48) -> 0 | P50: =SUM(P20:P48) -> 0 | Q50: =SUM(Q20:Q48) -> 0 | R50: =SUM(R20:R48) -> 0 | S50: =SUM(S20:S48) -> 0 | T50: =SUM(T20:T48) -> 0 | ... AB50: =SUM(AB20:AB48) -> 0
A52: TRAVEL | B52: Purpose of Trip | C52: Cost per Item | D52: # Items | E52: Additional Detail | M52: =M19 -> Period 1 mm/dd/yy - mm/dd/yy | N52: =N19 -> Period 2 mm/dd/yy - mm/dd/yy | O52: =O19 -> Period 3 mm/dd/yy - mm/dd/yy | P52: =P19 -> Period 4 mm/dd/yy - mm/dd/yy | Q52: =Q19 -> Period 5 mm/dd/yy - mm/dd/yy | R52: =R19 -> Period 6 mm/dd/yy - mm/dd/yy | S52: =S19 -> Period 7 mm/dd/yy - mm/dd/yy | T52: =T19 | U52: =M52 -> Period 1 mm/dd/yy - mm/dd/yy | V52: =N52 -> Period 2 mm/dd/yy - mm/dd/yy | W52: =O52 -> Period 3 mm/dd/yy - mm/dd/yy | X52: =P52 -> Period 4 mm/dd/yy - mm/dd/yy | Y52: =Q52 -> Period 5 mm/dd/yy - mm/dd/yy | Z52: =R52 -> Period 6 mm/dd/yy - mm/dd/yy | AA52: =S52 -> Period 7 mm/dd/yy - mm/dd/yy
A53: ='Successful Award Budget'!A52 | B53: ='Successful Award Budget'!B52 | T53: =M53+N53+O53+P53+Q53+R53+S53 -> 0 | U53: ='Successful Award Budget'!M52-M53 -> 0 | V53: ='Successful Award Budget'!N52-N53 -> 0 | W53: ='Successful Award Budget'!O52-O53 -> 0 | X53: ='Successful Award Budget'!P52-P53 -> 0 | Y53: ='Successful Award Budget'!Q52-Q53 -> 0 | Z53: ='Successful Award Budget'!R52-R53 -> 0 | AA53: ='Successful Award Budget'!S52-S53 -> 0 | AB53: =U53+V53+W53+X53+Y53+Z53+AA53 -> 0
A54: ='Successful Award Budget'!A53 | B54: ='Successful Award Budget'!B53 | T54: =M54+N54+O54+P54+Q54+R54+S54 -> 0 | U54: ='Successful Award Budget'!M53-M54 -> 0 | V54: ='Successful Award Budget'!N53-N54 -> 0 | W54: ='Successful Award Budget'!O53-O54 -> 0 | X54: ='Successful Award Budget'!P53-P54 -> 0 | Y54: ='Successful Award Budget'!Q53-Q54 -> 0 | Z54: ='Successful Award Budget'!R53-R54 -> 0 | AA54: ='Successful Award Budget'!S53-S54 -> 0 | AB54: =U54+V54+W54+X54+Y54+Z54+AA54 -> 0
A55: ='Successful Award Budget'!A54 | B55: ='Successful Award Budget'!B54 | T55: =M55+N55+O55+P55+Q55+R55+S55 -> 0 | U55: ='Successful Award Budget'!M54-M55 -> 0 | V55: ='Successful Award Budget'!N54-N55 -> 0 | W55: ='Successful Award Budget'!O54-O55 -> 0 | X55: ='Successful Award Budget'!P54-P55 -> 0 | Y55: ='Successful Award Budget'!Q54-Q55 -> 0 | Z55: ='Successful Award Budget'!R54-R55 -> 0 | AA55: ='Successful Award Budget'!S54-S55 -> 0 | AB55: =U55+V55+W55+X55+Y55+Z55+AA55 -> 0
A56: ='Successful Award Budget'!A55 | B56: ='Successful Award Budget'!B55 | T56: =M56+N56+O56+P56+Q56+R56+S56 -> 0 | U56: ='Successful Award Budget'!M55-M56 -> 0 | V56: ='Successful Award Budget'!N55-N56 -> 0 | W56: ='Successful Award Budget'!O55-O56 -> 0 | X56: ='Successful Award Budget'!P55-P56 -> 0 | Y56: ='Successful Award Budget'!Q55-Q56 -> 0 | Z56: ='Successful Award Budget'!R55-R56 -> 0 | AA56: ='Successful Award Budget'!S55-S56 -> 0 | AB56: =U56+V56+W56+X56+Y56+Z56+AA56 -> 0
A57: ='Successful Award Budget'!A56 | B57: ='Successful Award Budget'!B56 | T57: =M57+N57+O57+P57+Q57+R57+S57 -> 0 | U57: ='Successful Award Budget'!M56-M57 -> 0 | V57: ='Successful Award Budget'!N56-N57 -> 0 | W57: ='Successful Award Budget'!O56-O57 -> 0 | X57: ='Successful Award Budget'!P56-P57 -> 0 | Y57: ='Successful Award Budget'!Q56-Q57 -> 0 | Z57: ='Successful Award Budget'!R56-R57 -> 0 | AA57: ='Successful Award Budget'!S56-S57 -> 0 | AB57: =U57+V57+W57+X57+Y57+Z57+AA57 -> 0
A58: ='Successful Award Budget'!A57 | B58: ='Successful Award Budget'!B57 | T58: =M58+N58+O58+P58+Q58+R58+S58 -> 0 | U58: ='Successful Award Budget'!M57-M58 -> 0 | V58: ='Successful Award Budget'!N57-N58 -> 0 | W58: ='Successful Award Budget'!O57-O58 -> 0 | X58: ='Successful Award Budget'!P57-P58 -> 0 | Y58: ='Successful Award Budget'!Q57-Q58 -> 0 | Z58: ='Successful Award Budget'!R57-R58 -> 0 | AA58: ='Successful Award Budget'!S57-S58 -> 0 | AB58: =U58+V58+W58+X58+Y58+Z58+AA58 -> 0
A59: ='Successful Award Budget'!A58 | B59: ='Successful Award Budget'!B58 | T59: =M59+N59+O59+P59+Q59+R59+S59 -> 0 | U59: ='Successful Award Budget'!M58-M59 -> 0 | V59: ='Successful Award Budget'!N58-N59 -> 0 | W59: ='Successful Award Budget'!O58-O59 -> 0 | X59: ='Successful Award Budget'!P58-P59 -> 0 | Y59: ='Successful Award Budget'!Q58-Q59 -> 0 | Z59: ='Successful Award Budget'!R58-R59 -> 0 | AA59: ='Successful Award Budget'!S58-S59 -> 0 | AB59: =U59+V59+W59+X59+Y59+Z59+AA59 -> 0
...

Sheet Successful Award Budget
A1: IGL Seed Grants: Lowering Barriers to High-Impact Experimental Research
A2: To complete only if a successful award is made
A3: Date Submitted:
A5: Organisation Name
A6: Lead Personnel
A7: Proposal Title
A8: Award Amount (GBP) | B8: =T170 -> 0
A10: Start Date
A11: End Date
A12: Project Duration (months) | B12: =IF(OR(B10="",B11=""),"",YEARFRAC(B10,B11)*12) | E12: Complete only cells in blue
A17: EXPENSE TYPE | B17: Expense Description | C17: Calculation Detail | M17: Period 1 01/03/2026 - 31/08/2026 | N17: Period 2 01/09/2026 - 8/02/2027 | O17: Period 3 mm/dd/yy - mm/dd/yy | P17: Period 4 mm/dd/yy - mm/dd/yy | Q17: Period 5 mm/dd/yy - mm/dd/yy | R17: Period 6 mm/dd/yy - mm/dd/yy | S17: Period 7 mm/dd/yy - mm/dd/yy | T17: Total
A18: PERSONNEL | B18: Job Title | C18: Fringe % | D18: Salary | E18: Period 1 FTE | F18: Period 2 FTE | G18: Period 3 FTE | H18: Period 4 FTE% | I18: Period 5 FTE% | J18: Period 6 FTE% | K18: Period 7 FTE%
M19: =$D$19*E19*(1+$C$19) -> 0 | N19: =D19*F19*(1+C19)*(1+$C$15) -> 0 | O19: =D19*G19*(1+C19)*(1+$C$15)*(1+$C$15) -> 0 | P19: =D19*H19*(1+C19)*(1+$C$15)*(1+$C$15)*(1+$C$15) -> 0 | Q19: =D19*I19*(1+C19)*(1+$C$15)*(1+$C$15)*(1+$C$15)*(1+$C$15) -> 0 | R19: =D19*J19*(1+C19)*(1+$C$15)*(1+$C$15)*(1+$C$15)*(1+$C$15)*(1+$C$15) -> 0 | S19: =D19*K19*(1+C19)*(1+$C$15)*(1+$C$15)*(1+$C$15)*(1+$C$15)*(1+$C$15)*(1+$C$15) -> 0 | T19: =M19+N19+O19+P19+Q19+R19+S19 -> 0
M20: =$D$20*E20*(1+$C$20) -> 0 | N20: =D20*F20*(1+C20)*(1+$C$15) -> 0 | O20: =D20*G20*(1+C20)*(1+$C$15)*(1+$C$15) -> 0 | P20: =D20*H20*(1+C20)*(1+$C$15)*(1+$C$15)*(1+$C$15) -> 0 | Q20: =D20*I20*(1+C20)*(1+$C$15)*(1+$C$15)*(1+$C$15)*(1+$C$15) -> 0 | R20: =D20*J20*(1+C20)*(1+$C$15)*(1+$C$15)*(1+$C$15)*(1+$C$15)*(1+$C$15) -> 0 | S20: =D20*K20*(1+C20)*(1+$C$15)*(1+$C$15)*(1+$C$15)*(1+$C$15)*(1+$C$15)*(1+$C$15) -> 0 | T20: =M20+N20+O20+P20+Q20+R20+S20 -> 0
M21: =$D$21*E21*(1+$C$21) -> 0 | N21: =D21*F21*(1+C21)*(1+$C$15) -> 0 | O21: =D21*G21*(1+C21)*(1+$C$15)*(1+$C$15) -> 0 | P21: =D21*H21*(1+C21)*(1+$C$15)*(1+$C$15)*(1+$C$15) -> 0 | Q21: =D21*I21*(1+C21)*(1+$C$15)*(1+$C$15)*(1+$C$15)*(1+$C$15) -> 0 | R21: =D21*J21*(1+C21)*(1+$C$15)*(1+$C$15)*(1+$C$15)*(1+$C$15)*(1+$C$15) -> 0 | S21: =D21*K21*(1+C21)*(1+$C$15)*(1+$C$15)*(1+$C$15)*(1+$C$15)*(1+$C$15)*(1+$C$15) -> 0 | T21: =M21+N21+O21+P21+Q21+R21+S21 -> 0
M22: =D22*E22*(1+C22) -> 0 | N22: =D22*F22*(1+C22)*(1+$C$15) -> 0 | O22: =D22*G22*(1+C22)*(1+$C$15)*(1+$C$15) -> 0 | P22: =D22*H22*(1+C22)*(1+$C$15)*(1+$C$15)*(1+$C$15) -> 0 | Q22: =D22*I22*(1+C22)*(1+$C$15)*(1+$C$15)*(1+$C$15)*(1+$C$15) -> 0 | R22: =D22*J22*(1+C22)*(1+$C$15)*(1+$C$15)*(1+$C$15)*(1+$C$15)*(1+$C$15) -> 0 | S22: =D22*K22*(1+C22)*(1+$C$15)*(1+$C$15)*(1+$C$15)*(1+$C$15)*(1+$C$15)*(1+$C$15) -> 0 | T22: =M22+N22+O22+P22+Q22+R22+S22 -> 0
M23: =D23*E23*(1+C23) -> 0 | N23: =D23*F23*(1+C23)*(1+$C$15) -> 0 | O23: =D23*G23*(1+C23)*(1+$C$15)*(1+$C$15) -> 0 | P23: =D23*H23*(1+C23)*(1+$C$15)*(1+$C$15)*(1+$C$15) -> 0 | Q23: =D23*I23*(1+C23)*(1+$C$15)*(1+$C$15)*(1+$C$15)*(1+$C$15) -> 0 | R23: =D23*J23*(1+C23)*(1+$C$15)*(1+$C$15)*(1+$C$15)*(1+$C$15)*(1+$C$15) -> 0 | S23: =D23*K23*(1+C23)*(1+$C$15)*(1+$C$15)*(1+$C$15)*(1+$C$15)*(1+$C$15)*(1+$C$15) -> 0 | T23: =M23+N23+O23+P23+Q23+R23+S23 -> 0
M24: =D24*E24*(1+C24) -> 0 | N24: =D24*F24*(1+C24)*(1+$C$15) -> 0 | O24: =D24*G24*(1+C24)*(1+$C$15)*(1+$C$15) -> 0 | P24: =D24*H24*(1+C24)*(1+$C$15)*(1+$C$15)*(1+$C$15) -> 0 | Q24: =D24*I24*(1+C24)*(1+$C$15)*(1+$C$15)*(1+$C$15)*(1+$C$15) -> 0 | R24: =D24*J24*(1+C24)*(1+$C$15)*(1+$C$15)*(1+$C$15)*(1+$C$15)*(1+$C$15) -> 0 | S24: =D24*K24*(1+C24)*(1+$C$15)*(1+$C$15)*(1+$C$15)*(1+$C$15)*(1+$C$15)*(1+$C$15) -> 0 | T24: =M24+N24+O24+P24+Q24+R24+S24 -> 0
M25: =D25*E25*(1+C25) -> 0 | N25: =D25*F25*(1+C25)*(1+$C$15) -> 0 | O25: =D25*G25*(1+C25)*(1+$C$15)*(1+$C$15) -> 0 | P25: =D25*H25*(1+C25)*(1+$C$15)*(1+$C$15)*(1+$C$15) -> 0 | Q25: =D25*I25*(1+C25)*(1+$C$15)*(1+$C$15)*(1+$C$15)*(1+$C$15) -> 0 | R25: =D25*J25*(1+C25)*(1+$C$15)*(1+$C$15)*(1+$C$15)*(1+$C$15)*(1+$C$15) -> 0 | S25: =D25*K25*(1+C25)*(1+$C$15)*(1+$C$15)*(1+$C$15)*(1+$C$15)*(1+$C$15)*(1+$C$15) -> 0 | T25: =M25+N25+O25+P25+Q25+R25+S25 -> 0
M26: =D26*E26*(1+C26) -> 0 | N26: =D26*F26*(1+C26)*(1+$C$15) -> 0 | O26: =D26*G26*(1+C26)*(1+$C$15)*(1+$C$15) -> 0 | P26: =D26*H26*(1+C26)*(1+$C$15)*(1+$C$15)*(1+$C$15) -> 0 | Q26: =D26*I26*(1+C26)*(1+$C$15)*(1+$C$15)*(1+$C$15)*(1+$C$15) -> 0 | R26: =D26*J26*(1+C26)*(1+$C$15)*(1+$C$15)*(1+$C$15)*(1+$C$15)*(1+$C$15) -> 0 | S26: =D26*K26*(1+C26)*(1+$C$15)*(1+$C$15)*(1+$C$15)*(1+$C$15)*(1+$C$15)*(1+$C$15) -> 0 | T26: =M26+N26+O26+P26+Q26+R26+S26 -> 0
M27: =D27*E27*(1+C27) -> 0 | N27: =D27*F27*(1+C27)*(1+$C$15) -> 0 | O27: =D27*G27*(1+C27)*(1+$C$15)*(1+$C$15) -> 0 | P27: =D27*H27*(1+C27)*(1+$C$15)*(1+$C$15)*(1+$C$15) -> 0 | Q27: =D27*I27*(1+C27)*(1+$C$15)*(1+$C$15)*(1+$C$15)*(1+$C$15) -> 0 | R27: =D27*J27*(1+C27)*(1+$C$15)*(1+$C$15)*(1+$C$15)*(1+$C$15)*(1+$C$15) -> 0 | S27: =D27*K27*(1+C27)*(1+$C$15)*(1+$C$15)*(1+$C$15)*(1+$C$15)*(1+$C$15)*(1+$C$15) -> 0 | T27: =M27+N27+O27+P27+Q27+R27+S27 -> 0
M28: =D28*E28*(1+C28) -> 0 | N28: =D28*F28*(1+C28)*(1+$C$15) -> 0 | O28: =D28*G28*(1+C28)*(1+$C$15)*(1+$C$15) -> 0 | P28: =D28*H28*(1+C28)*(1+$C$15)*(1+$C$15)*(1+$C$15) -> 0 | Q28: =D28*I28*(1+C28)*(1+$C$15)*(1+$C$15)*(1+$C$15)*(1+$C$15) -> 0 | R28: =D28*J28*(1+C28)*(1+$C$15)*(1+$C$15)*(1+$C$15)*(1+$C$15)*(1+$C$15) -> 0 | S28: =D28*K28*(1+C28)*(1+$C$15)*(1+$C$15)*(1+$C$15)*(1+$C$15)*(1+$C$15)*(1+$C$15) -> 0 | T28: =M28+N28+O28+P28+Q28+R28+S28 -> 0
M29: =D29*E29*(1+C29) -> 0 | N29: =D29*F29*(1+C29)*(1+$C$15) -> 0 | O29: =D29*G29*(1+C29)*(1+$C$15)*(1+$C$15) -> 0 | P29: =D29*H29*(1+C29)*(1+$C$15)*(1+$C$15)*(1+$C$15) -> 0 | Q29: =D29*I29*(1+C29)*(1+$C$15)*(1+$C$15)*(1+$C$15)*(1+$C$15) -> 0 | R29: =D29*J29*(1+C29)*(1+$C$15)*(1+$C$15)*(1+$C$15)*(1+$C$15)*(1+$C$15) -> 0 | S29: =D29*K29*(1+C29)*(1+$C$15)*(1+$C$15)*(1+$C$15)*(1+$C$15)*(1+$C$15)*(1+$C$15) -> 0 | T29: =M29+N29+O29+P29+Q29+R29+S29 -> 0
M30: =D30*E30*(1+C30) -> 0 | N30: =D30*F30*(1+C30)*(1+$C$15) -> 0 | O30: =D30*G30*(1+C30)*(1+$C$15)*(1+$C$15) -> 0 | P30: =D30*H30*(1+C30)*(1+$C$15)*(1+$C$15)*(1+$C$15) -> 0 | Q30: =D30*I30*(1+C30)*(1+$C$15)*(1+$C$15)*(1+$C$15)*(1+$C$15) -> 0 | R30: =D30*J30*(1+C30)*(1+$C$15)*(1+$C$15)*(1+$C$15)*(1+$C$15)*(1+$C$15) -> 0 | S30: =D30*K30*(1+C30)*(1+$C$15)*(1+$C$15)*(1+$C$15)*(1+$C$15)*(1+$C$15)*(1+$C$15) -> 0 | T30: =M30+N30+O30+P30+Q30+R30+S30 -> 0
M31: =D31*E31*(1+C31) -> 0 | N31: =D31*F31*(1+C31)*(1+$C$15) -> 0 | O31: =D31*G31*(1+C31)*(1+$C$15)*(1+$C$15) -> 0 | P31: =D31*H31*(1+C31)*(1+$C$15)*(1+$C$15)*(1+$C$15) -> 0 | Q31: =D31*I31*(1+C31)*(1+$C$15)*(1+$C$15)*(1+$C$15)*(1+$C$15) -> 0 | R31: =D31*J31*(1+C31)*(1+$C$15)*(1+$C$15)*(1+$C$15)*(1+$C$15)*(1+$C$15) -> 0 | S31: =D31*K31*(1+C31)*(1+$C$15)*(1+$C$15)*(1+$C$15)*(1+$C$15)*(1+$C$15)*(1+$C$15) -> 0 | T31: =M31+N31+O31+P31+Q31+R31+S31 -> 0
M32: =D32*E32*(1+C32) -> 0 | N32: =D32*F32*(1+C32)*(1+$C$15) -> 0 | O32: =D32*G32*(1+C32)*(1+$C$15)*(1+$C$15) -> 0 | P32: =D32*H32*(1+C32)*(1+$C$15)*(1+$C$15)*(1+$C$15) -> 0 | Q32: =D32*I32*(1+C32)*(1+$C$15)*(1+$C$15)*(1+$C$15)*(1+$C$15) -> 0 | R32: =D32*J32*(1+C32)*(1+$C$15)*(1+$C$15)*(1+$C$15)*(1+$C$15)*(1+$C$15) -> 0 | S32: =D32*K32*(1+C32)*(1+$C$15)*(1+$C$15)*(1+$C$15)*(1+$C$15)*(1+$C$15)*(1+$C$15) -> 0 | T32: =M32+N32+O32+P32+Q32+R32+S32 -> 0
M33: =D33*E33*(1+C33) -> 0 | N33: =D33*F33*(1+C33)*(1+$C$15) -> 0 | O33: =D33*G33*(1+C33)*(1+$C$15)*(1+$C$15) -> 0 | P33: =D33*H33*(1+C33)*(1+$C$15)*(1+$C$15)*(1+$C$15) -> 0 | Q33: =D33*I33*(1+C33)*(1+$C$15)*(1+$C$15)*(1+$C$15)*(1+$C$15) -> 0 | R33: =D33*J33*(1+C33)*(1+$C$15)*(1+$C$15)*(1+$C$15)*(1+$C$15)*(1+$C$15) -> 0 | S33: =D33*K33*(1+C33)*(1+$C$15)*(1+$C$15)*(1+$C$15)*(1+$C$15)*(1+$C$15)*(1+$C$15) -> 0 | T33: =M33+N33+O33+P33+Q33+R33+S33 -> 0
... M47: =D47*E47*(1+C47) -> 0 | N47: =D47*F47*(1+C47)*(1+$C$15) -> 0 | O47: =D47*G47*(1+C47)*(1+$C$15)*(1+$C$15) -> 0 | P47: =D47*H47*(1+C47)*(1+$C$15)*(1+$C$15)*(1+$C$15) -> 0 | Q47: =D47*I47*(1+C47)*(1+$C$15)*(1+$C$15)*(1+$C$15)*(1+$C$15) -> 0 | R47: =D47*J47*(1+C47)*(1+$C$15)*(1+$C$15)*(1+$C$15)*(1+$C$15)*(1+$C$15) -> 0 | S47: =D47*K47*(1+C47)*(1+$C$15)*(1+$C$15)*(1+$C$15)*(1+$C$15)*(1+$C$15)*(1+$C$15) -> 0 | T47: =M47+N47+O47+P47+Q47+R47+S47 -> 0
A48: <---- unhide additional rows if needed
A49: Personnel Subtotal | M49: =SUM(M19:M47) -> 0 | N49: =SUM(N19:N47) -> 0 | O49: =SUM(O19:O47) -> 0 | P49: =SUM(P19:P47) -> 0 | Q49: =SUM(Q19:Q47) -> 0 | R49: =SUM(R19:R47) -> 0 | S49: =SUM(S19:S47) -> 0 | T49: =SUM(T19:T47) -> 0
A51: TRAVEL | B51: Purpose of Trip | C51: Cost per Item | D51: # Items | E51: Additional Detail
T52: =M52+N52+O52+P52+Q52+R52+S52 -> 0
T53: =M53+N53+O53+P53+Q53+R53+S53 -> 0
T54: =M54+N54+O54+P54+Q54+R54+S54 -> 0
T55: =M55+N55+O55+P55+Q55+R55+S55 -> 0
T56: =M56+N56+O56+P56+Q56+R56+S56 -> 0
T57: =M57+N57+O57+P57+Q57+R57+S57 -> 0
T58: =M58+N58+O58+P58+Q58+R58+S58 -> 0
T59: =M59+N59+O59+P59+Q59+R59+S59 -> 0
T60: =M60+N60+O60+P60+Q60+R60+S60 -> 0
...
